BEGIN:VCALENDAR
VERSION:2.0
PRODID:Events Booking
BEGIN:VEVENT
UID:69e66589a8230
SUMMARY:Leadership vs Management: Clarify Your Role\, Maximise Your Impact
DESCRIPTION:A powerful one-hour session to help you understand your strengt
 hs\, lead with confidence\, and manage with purpose.
DTSTART:20250919T090000Z
DTEND:20250919T100000Z
DTSTAMP:20250515T084921Z
ORGANIZER;CN=MATCPD:MAILTO:clientemail@lightbulbwebdesign.co.uk
END:VEVENT
END:VCALENDAR